BEGIN:VCALENDAR
VERSION:2.0
PRODID:-//NC Water Resources Research Institute - ECPv6.15.19//NONSGML v1.0//EN
CALSCALE:GREGORIAN
METHOD:PUBLISH
X-WR-CALNAME:NC Water Resources Research Institute
X-ORIGINAL-URL:https://wrri.ncsu.edu
X-WR-CALDESC:Events for NC Water Resources Research Institute
REFRESH-INTERVAL;VALUE=DURATION:PT1H
X-Robots-Tag:noindex
X-PUBLISHED-TTL:PT1H
BEGIN:VTIMEZONE
TZID:America/New_York
BEGIN:DAYLIGHT
TZOFFSETFROM:-0500
TZOFFSETTO:-0400
TZNAME:EDT
DTSTART:20250309T070000
END:DAYLIGHT
BEGIN:STANDARD
TZOFFSETFROM:-0400
TZOFFSETTO:-0500
TZNAME:EST
DTSTART:20251102T060000
END:STANDARD
BEGIN:DAYLIGHT
TZOFFSETFROM:-0500
TZOFFSETTO:-0400
TZNAME:EDT
DTSTART:20260308T070000
END:DAYLIGHT
BEGIN:STANDARD
TZOFFSETFROM:-0400
TZOFFSETTO:-0500
TZNAME:EST
DTSTART:20261101T060000
END:STANDARD
BEGIN:DAYLIGHT
TZOFFSETFROM:-0500
TZOFFSETTO:-0400
TZNAME:EDT
DTSTART:20270314T070000
END:DAYLIGHT
BEGIN:STANDARD
TZOFFSETFROM:-0400
TZOFFSETTO:-0500
TZNAME:EST
DTSTART:20271107T060000
END:STANDARD
END:VTIMEZONE
BEGIN:VEVENT
DTSTART;VALUE=DATE:20260325
DTEND;VALUE=DATE:20260327
DTSTAMP:20260423T094317
CREATED:20260113T152331Z
LAST-MODIFIED:20260113T152331Z
UID:10000001-1774396800-1774569599@wrri.ncsu.edu
SUMMARY:WRRI Annual Conference
DESCRIPTION:WRRI’s annual conference brings together all sectors and all disciplines working in water resources across North Carolina. Here you’ll find water utilities\, students\, consultants\, academics\, nonprofits\, state agency staff\, among many others\, working across fields including stream restoration\, water supply planning\, stormwater management\, water quality and groundwater dynamics\, community engagement and many more! \n\n\nWe feature presentations on the latest research and on-the-ground practices and implementation\, networking opportunities\, and interactive sessions to learn new skills and solve problems. We provide student engagement opportunities such as mentoring\, as well as exhibitors and highlights such as art\, music and dynamic keynote speakers who remind us of the value of the work we do to study\, protect and manage water resources. \nLearn More
URL:https://wrri.ncsu.edu/event/wrri-annual-conference/
LOCATION:McKimmon Center\, 1101 Gorman St\, Raleigh\, NC\, 27606\, United States
CATEGORIES:Conferences
ATTACH;FMTTYPE=image/jpeg:https://wrri.ncsu.edu/wp-content/uploads/2025/12/NCSU_WRRI_Conference-3010.jpg
END:VEVENT
BEGIN:VEVENT
DTSTART;TZID=America/New_York:20260209T113000
DTEND;TZID=America/New_York:20260209T133000
DTSTAMP:20260423T094317
CREATED:20260120T160654Z
LAST-MODIFIED:20260120T161155Z
UID:10000002-1770636600-1770643800@wrri.ncsu.edu
SUMMARY:Different Hues of Green – Green Stormwater from Cities to Wide Open Spaces
DESCRIPTION:Green Stormwater Infrastructure has many definitions\, many forms\, and myriad benefits – all highly dependent on a given project’s setting and context. Fitting GSI into existing communities requires collaboration between a variety of disciplines\, stakeholders and funding sources. While this can seem daunting\, GSI projects that have been successfully completed across North Carolina are strengthening community resilience\, environmental protection and connecting people with nature. This presentation will highlight multiple GSI case studies – from urban architecture to rural conservation – and discuss how the benefits of each project far outweigh the challenges faced during design\, permitting\, and implementation.
URL:https://wrri.ncsu.edu/event/different-hues-of-green-green-stormwater-from-cities-to-wide-open-spaces/
LOCATION:McKimmon Center\, 1101 Gorman St\, Raleigh\, NC\, 27606\, United States
ATTACH;FMTTYPE=image/jpeg:https://wrri.ncsu.edu/wp-content/uploads/2026/01/gis_sidewalk_cover-scaled.jpg
END:VEVENT
END:VCALENDAR